BEGIN:VCALENDAR
VERSION:2.0
PRODID:-//LCOUNTYDD - ECPv4.9.9//NONSGML v1.0//EN
CALSCALE:GREGORIAN
METHOD:PUBLISH
X-WR-CALNAME:LCOUNTYDD
X-ORIGINAL-URL:http://lcountydd.org
X-WR-CALDESC:Events for LCOUNTYDD
BEGIN:VTIMEZONE
TZID:UTC
BEGIN:STANDARD
TZOFFSETFROM:+0000
TZOFFSETTO:+0000
TZNAME:UTC
DTSTART:20150101T000000
END:STANDARD
END:VTIMEZONE
BEGIN:VEVENT
DTSTART;TZID=UTC:20151024T163000
DTEND;TZID=UTC:20151024T183000
DTSTAMP:20260426T023426
CREATED:20151013T030208Z
LAST-MODIFIED:20151018T002125Z
UID:4831-1445704200-1445711400@lcountydd.org
SUMMARY:PAWS Pet CLub
DESCRIPTION:Questions? Contact Dora @ 740.788.3725 \n
URL:http://lcountydd.org/event/paws-pet-club/
LOCATION:PAWS Pet Club\, 565 Industrial Parkway\, Heath\, OH\, 43056\, United States
CATEGORIES:PAWS
END:VEVENT
END:VCALENDAR