BEGIN:VCALENDAR
VERSION:2.0
PRODID:-//LCOUNTYDD - ECPv4.9.9//NONSGML v1.0//EN
CALSCALE:GREGORIAN
METHOD:PUBLISH
X-WR-CALNAME:LCOUNTYDD
X-ORIGINAL-URL:http://lcountydd.org
X-WR-CALDESC:Events for LCOUNTYDD
BEGIN:VTIMEZONE
TZID:UTC
BEGIN:STANDARD
TZOFFSETFROM:+0000
TZOFFSETTO:+0000
TZNAME:UTC
DTSTART:20190101T000000
END:STANDARD
END:VTIMEZONE
BEGIN:VEVENT
DTSTART;TZID=UTC:20190717T164500
DTEND;TZID=UTC:20190717T170000
DTSTAMP:20260419T153253
CREATED:20190117T150954Z
LAST-MODIFIED:20190710T125109Z
UID:11734-1563381900-1563382800@lcountydd.org
SUMMARY:Special Board Meeting in July
DESCRIPTION:The Licking County Board of Developmental Disabilities will hold a Special Board Meeting for the purpose of considering the employment and compensation of a public employee\, changing the Personnel Control Report and updating position descriptions\, and discussing a resolution to dispose of excess inventory.  The meeting will be held at 4:45 p.m. on Wednesday\, July 17th\, at the Licking County Board of Developmental Disabilities\, 116 N. 22nd Street\, Newark\, Ohio. \n  \n
URL:http://lcountydd.org/event/no-lcbdd-board-meeting-in-july/
END:VEVENT
END:VCALENDAR