BEGIN:VCALENDAR
VERSION:2.0
PRODID:-//LCOUNTYDD - ECPv4.9.9//NONSGML v1.0//EN
CALSCALE:GREGORIAN
METHOD:PUBLISH
X-WR-CALNAME:LCOUNTYDD
X-ORIGINAL-URL:http://lcountydd.org
X-WR-CALDESC:Events for LCOUNTYDD
BEGIN:VTIMEZONE
TZID:UTC
BEGIN:STANDARD
TZOFFSETFROM:+0000
TZOFFSETTO:+0000
TZNAME:UTC
DTSTART:20180101T000000
END:STANDARD
END:VTIMEZONE
BEGIN:VEVENT
DTSTART;VALUE=DATE:20180101
DTEND;VALUE=DATE:20180102
DTSTAMP:20260423T220214
CREATED:20171107T171504Z
LAST-MODIFIED:20171107T171504Z
UID:9731-1514764800-1514851199@lcountydd.org
SUMMARY:New Year's Day
DESCRIPTION:Our office will be closed  \nMonday\, January 1\, 2018 \nin observance of New Year’s Day. \nThe office will re-open on \nTuesday\, January 2\, 2018 \nat 8:00 a.m. \nIf you need immediate assistance\, \nplease call Pathways at 211. \n
URL:http://lcountydd.org/event/new-years-day/
END:VEVENT
END:VCALENDAR