BEGIN:VCALENDAR
VERSION:2.0
PRODID:-//LCOUNTYDD - ECPv4.9.9//NONSGML v1.0//EN
CALSCALE:GREGORIAN
METHOD:PUBLISH
X-WR-CALNAME:LCOUNTYDD
X-ORIGINAL-URL:http://lcountydd.org
X-WR-CALDESC:Events for LCOUNTYDD
BEGIN:VTIMEZONE
TZID:UTC
BEGIN:STANDARD
TZOFFSETFROM:+0000
TZOFFSETTO:+0000
TZNAME:UTC
DTSTART:20190101T000000
END:STANDARD
END:VTIMEZONE
BEGIN:VEVENT
DTSTART;VALUE=DATE:20190704
DTEND;VALUE=DATE:20190705
DTSTAMP:20260419T171106
CREATED:20181106T145747Z
LAST-MODIFIED:20181106T160757Z
UID:11450-1562198400-1562284799@lcountydd.org
SUMMARY:Independence Day - Office is Closed
DESCRIPTION:Our office will be closed \nThursday\, July 4\, 2019 \nin observance of Independence Day. \nThe office will re-open on \nFriday\, July 5\, 2019 \nat 8:00 a.m. \nIf you need immediate assistance\, \nplease call Pathways at 211. \n
URL:http://lcountydd.org/event/independence-day-2/
END:VEVENT
END:VCALENDAR