BEGIN:VCALENDAR
VERSION:2.0
PRODID:-//LCOUNTYDD - ECPv4.9.9//NONSGML v1.0//EN
CALSCALE:GREGORIAN
METHOD:PUBLISH
X-WR-CALNAME:LCOUNTYDD
X-ORIGINAL-URL:http://lcountydd.org
X-WR-CALDESC:Events for LCOUNTYDD
BEGIN:VTIMEZONE
TZID:UTC
BEGIN:STANDARD
TZOFFSETFROM:+0000
TZOFFSETTO:+0000
TZNAME:UTC
DTSTART:20170101T000000
END:STANDARD
END:VTIMEZONE
BEGIN:VEVENT
DTSTART;VALUE=DATE:20171225
DTEND;VALUE=DATE:20171226
DTSTAMP:20260424T005806
CREATED:20171107T170908Z
LAST-MODIFIED:20171107T170908Z
UID:9727-1514160000-1514246399@lcountydd.org
SUMMARY:Christmas Day
DESCRIPTION:Our office will be closed  \nMonday\, December 25\, 2017 \nin observance of Christmas Day. \nThe office will re-open on \nTuesday\, December 26\, 2017 \nat 8:00 a.m. \nIf you need immediate assistance\, \nplease call Pathways at 211. \n
URL:http://lcountydd.org/event/christmas-day/
END:VEVENT
END:VCALENDAR