BEGIN:VCALENDAR
VERSION:2.0
PRODID:-//LCOUNTYDD - ECPv4.9.9//NONSGML v1.0//EN
CALSCALE:GREGORIAN
METHOD:PUBLISH
X-WR-CALNAME:LCOUNTYDD
X-ORIGINAL-URL:http://lcountydd.org
X-WR-CALDESC:Events for LCOUNTYDD
BEGIN:VTIMEZONE
TZID:UTC
BEGIN:STANDARD
TZOFFSETFROM:+0000
TZOFFSETTO:+0000
TZNAME:UTC
DTSTART:20190101T000000
END:STANDARD
END:VTIMEZONE
BEGIN:VEVENT
DTSTART;VALUE=DATE:20191225
DTEND;VALUE=DATE:20191226
DTSTAMP:20260420T101247
CREATED:20181106T152933Z
LAST-MODIFIED:20181106T155521Z
UID:11466-1577232000-1577318399@lcountydd.org
SUMMARY:Christmas Day - Office is Closed
DESCRIPTION:Our office will be closed \nWednesday\, December 25\, 2019 \nin observance of Christmas Day. \nThe office will re-open on \nThursday\, December 26\, 2019 \nat 8:00 a.m. \nIf you need immediate assistance\, \nplease call Pathways at 211. \n
URL:http://lcountydd.org/event/christmas-day-3/
END:VEVENT
END:VCALENDAR